BEGIN:VCALENDAR
VERSION:2.0
PRODID:-//Smoky Hill High School PTCO - ECPv6.15.20//NONSGML v1.0//EN
CALSCALE:GREGORIAN
METHOD:PUBLISH
X-ORIGINAL-URL:https://shhsptco.org
X-WR-CALDESC:Events for Smoky Hill High School PTCO
REFRESH-INTERVAL;VALUE=DURATION:PT1H
X-Robots-Tag:noindex
X-PUBLISHED-TTL:PT1H
BEGIN:VTIMEZONE
TZID:America/Denver
BEGIN:DAYLIGHT
TZOFFSETFROM:-0700
TZOFFSETTO:-0600
TZNAME:MDT
DTSTART:20250309T090000
END:DAYLIGHT
BEGIN:STANDARD
TZOFFSETFROM:-0600
TZOFFSETTO:-0700
TZNAME:MST
DTSTART:20251102T080000
END:STANDARD
BEGIN:DAYLIGHT
TZOFFSETFROM:-0700
TZOFFSETTO:-0600
TZNAME:MDT
DTSTART:20260308T090000
END:DAYLIGHT
BEGIN:STANDARD
TZOFFSETFROM:-0600
TZOFFSETTO:-0700
TZNAME:MST
DTSTART:20261101T080000
END:STANDARD
BEGIN:DAYLIGHT
TZOFFSETFROM:-0700
TZOFFSETTO:-0600
TZNAME:MDT
DTSTART:20270314T090000
END:DAYLIGHT
BEGIN:STANDARD
TZOFFSETFROM:-0600
TZOFFSETTO:-0700
TZNAME:MST
DTSTART:20271107T080000
END:STANDARD
END:VTIMEZONE
BEGIN:VEVENT
DTSTART;TZID=America/Denver:20260210T183000
DTEND;TZID=America/Denver:20260210T200000
DTSTAMP:20260423T173018
CREATED:20240617T201501Z
LAST-MODIFIED:20260210T235637Z
UID:2583-1770748200-1770753600@shhsptco.org
SUMMARY:PTCO Meeting - February 2026
DESCRIPTION:Get more details on the events we help out with throughout the year. \nMeetings will be held in administration office conference room.  Enter the school through the main entrance\, and go through the doors on the left\, just attendance desk. (One of the 4 doors should be open!) \nCLICK ON LINK TO JOIN VIRTUAL MEETING
URL:https://shhsptco.org/event/ptco-meeting-april-2022-2-3-3-2/
LOCATION:Room I-48 (by Activities Office)\, 16100 E Smoky Hill Rd\, Aurora\, CO\, 80015\, United States
CATEGORIES:PTCO Meeting
END:VEVENT
END:VCALENDAR